Package: DRIMSeq Version: 1.36.0 Command: /home/biocbuild/bbs-3.21-bioc/R/bin/R CMD build --keep-empty-dirs --no-resave-data DRIMSeq StartedAt: 2025-10-15 17:18:01 -0400 (Wed, 15 Oct 2025) EndedAt: 2025-10-15 17:20:22 -0400 (Wed, 15 Oct 2025) EllapsedTime: 141.2 seconds RetCode: 0 Status: OK PackageFile: DRIMSeq_1.36.0.tar.gz PackageFileSize: 481.7 KiB