Package: DRIMSeq Version: 1.36.0 Command: /Library/Frameworks/R.framework/Resources/bin/R CMD build --keep-empty-dirs --no-resave-data DRIMSeq StartedAt: 2025-10-13 18:45:37 -0400 (Mon, 13 Oct 2025) EndedAt: 2025-10-13 18:51:23 -0400 (Mon, 13 Oct 2025) EllapsedTime: 345.6 seconds RetCode: 0 Status: OK PackageFile: DRIMSeq_1.36.0.tar.gz PackageFileSize: 480.5 KiB