Package: DRIMSeq Version: 1.36.0 Command: rm -rf DRIMSeq.buildbin-libdir && mkdir DRIMSeq.buildbin-libdir && /Users/biocbuild/BBS/utils/build-universal.sh DRIMSeq_1.36.0.tar.gz /Library/Frameworks/R.framework/Resources/bin/R DRIMSeq.buildbin-libdir StartedAt: 2025-10-14 13:19:49 -0400 (Tue, 14 Oct 2025) EndedAt: 2025-10-14 13:20:33 -0400 (Tue, 14 Oct 2025) EllapsedTime: 43.9 seconds RetCode: 0 Status: OK PackageFile: DRIMSeq_1.36.0.tgz PackageFileSize: 784 KiB