Package: DRIMSeq Version: 1.36.0 Command: /Library/Frameworks/R.framework/Resources/bin/R CMD check --install=check:DRIMSeq.install-out.txt --library=/Library/Frameworks/R.framework/Resources/library --no-vignettes --timings DRIMSeq_1.36.0.tar.gz StartedAt: 2025-10-14 20:09:38 -0400 (Tue, 14 Oct 2025) EndedAt: 2025-10-14 20:13:36 -0400 (Tue, 14 Oct 2025) EllapsedTime: 237.1 seconds RetCode: 0 Status: WARNINGS CheckDir: DRIMSeq.Rcheck Warnings: 1