Package: DNAshapeR Version: 1.36.0 Command: /home/biocbuild/R/R/bin/R CMD build --keep-empty-dirs --no-resave-data DNAshapeR StartedAt: 2025-10-14 00:27:25 -0000 (Tue, 14 Oct 2025) EndedAt: 2025-10-14 00:28:53 -0000 (Tue, 14 Oct 2025) EllapsedTime: 88.0 seconds RetCode: 0 Status: OK PackageFile: DNAshapeR_1.36.0.tar.gz PackageFileSize: 1.092 MiB