Package: DNAshapeR Version: 1.36.0 Command: /Library/Frameworks/R.framework/Resources/bin/R CMD INSTALL DNAshapeR StartedAt: 2025-10-13 16:03:34 -0400 (Mon, 13 Oct 2025) EndedAt: 2025-10-13 16:04:12 -0400 (Mon, 13 Oct 2025) EllapsedTime: 38.0 seconds RetCode: 0 Status: OK