Package: DNAfusion Version: 1.10.0 Command: /home/biocbuild/bbs-3.21-bioc/R/bin/R CMD INSTALL DNAfusion StartedAt: 2025-10-15 15:42:58 -0400 (Wed, 15 Oct 2025) EndedAt: 2025-10-15 15:43:31 -0400 (Wed, 15 Oct 2025) EllapsedTime: 33.3 seconds RetCode: 0 Status: OK