Package: DNAfusion Version: 1.10.0 Command: /home/biocbuild/R/R/bin/R CMD INSTALL DNAfusion StartedAt: 2025-10-13 20:59:19 -0000 (Mon, 13 Oct 2025) EndedAt: 2025-10-13 21:00:07 -0000 (Mon, 13 Oct 2025) EllapsedTime: 48.2 seconds RetCode: 0 Status: OK