Package: DNAfusion Version: 1.10.0 Command: /home/biocbuild/R/R/bin/R CMD build --keep-empty-dirs --no-resave-data DNAfusion StartedAt: 2025-10-14 00:26:45 -0000 (Tue, 14 Oct 2025) EndedAt: 2025-10-14 00:31:13 -0000 (Tue, 14 Oct 2025) EllapsedTime: 268.1 seconds RetCode: 0 Status: OK PackageFile: DNAfusion_1.10.0.tar.gz PackageFileSize: 6.325 MiB