Package: DNAfusion Version: 1.10.0 Command: /Library/Frameworks/R.framework/Resources/bin/R CMD build --keep-empty-dirs --no-resave-data DNAfusion StartedAt: 2025-10-13 23:29:17 -0400 (Mon, 13 Oct 2025) EndedAt: 2025-10-13 23:33:50 -0400 (Mon, 13 Oct 2025) EllapsedTime: 273.0 seconds RetCode: 0 Status: OK PackageFile: DNAfusion_1.10.0.tar.gz PackageFileSize: 6.298 MiB