Package: DNABarcodes Version: 1.38.0 Command: /home/biocbuild/bbs-3.21-bioc/R/bin/R CMD INSTALL DNABarcodes StartedAt: 2025-10-15 15:04:37 -0400 (Wed, 15 Oct 2025) EndedAt: 2025-10-15 15:06:19 -0400 (Wed, 15 Oct 2025) EllapsedTime: 101.9 seconds RetCode: 0 Status: OK