Package: DNABarcodes Version: 1.38.0 Command: /home/biocbuild/bbs-3.21-bioc/R/bin/R CMD build --keep-empty-dirs --no-resave-data DNABarcodes StartedAt: 2025-10-15 17:16:16 -0400 (Wed, 15 Oct 2025) EndedAt: 2025-10-15 17:17:38 -0400 (Wed, 15 Oct 2025) EllapsedTime: 81.1 seconds RetCode: 0 Status: OK PackageFile: DNABarcodes_1.38.0.tar.gz PackageFileSize: 347.8 KiB