Package: DNABarcodes Version: 1.38.0 Command: /home/biocbuild/R/R/bin/R CMD build --keep-empty-dirs --no-resave-data DNABarcodes StartedAt: 2025-10-14 00:26:32 -0000 (Tue, 14 Oct 2025) EndedAt: 2025-10-14 00:28:25 -0000 (Tue, 14 Oct 2025) EllapsedTime: 113.0 seconds RetCode: 0 Status: OK PackageFile: DNABarcodes_1.38.0.tar.gz PackageFileSize: 371.9 KiB