Package: DNABarcodeCompatibility Version: 1.24.0 Command: /home/biocbuild/R/R/bin/R CMD INSTALL DNABarcodeCompatibility StartedAt: 2025-10-13 20:20:12 -0000 (Mon, 13 Oct 2025) EndedAt: 2025-10-13 20:21:03 -0000 (Mon, 13 Oct 2025) EllapsedTime: 51.1 seconds RetCode: 0 Status: OK