Package: DNABarcodeCompatibility Version: 1.24.0 Command: rm -rf DNABarcodeCompatibility.buildbin-libdir && mkdir DNABarcodeCompatibility.buildbin-libdir && /Users/biocbuild/BBS/utils/build-universal.sh DNABarcodeCompatibility_1.24.0.tar.gz /Library/Frameworks/R.framework/Resources/bin/R DNABarcodeCompatibility.buildbin-libdir StartedAt: 2025-10-15 18:16:50 -0400 (Wed, 15 Oct 2025) EndedAt: 2025-10-15 18:17:23 -0400 (Wed, 15 Oct 2025) EllapsedTime: 32.3 seconds RetCode: 0 Status: OK PackageFile: DNABarcodeCompatibility_1.24.0.tgz PackageFileSize: 387.6 KiB