Package: DMCHMM Version: 1.30.1 Command: /Library/Frameworks/R.framework/Resources/bin/R CMD build --keep-empty-dirs --no-resave-data DMCHMM StartedAt: 2025-10-13 23:26:01 -0400 (Mon, 13 Oct 2025) EndedAt: 2025-10-13 23:27:32 -0400 (Mon, 13 Oct 2025) EllapsedTime: 90.8 seconds RetCode: 0 Status: OK PackageFile: DMCHMM_1.30.1.tar.gz PackageFileSize: 743.7 KiB