Package: DIAlignR Version: 2.16.0 Command: /home/biocbuild/bbs-3.21-bioc/R/bin/R CMD INSTALL DIAlignR StartedAt: 2025-10-15 15:21:48 -0400 (Wed, 15 Oct 2025) EndedAt: 2025-10-15 15:22:48 -0400 (Wed, 15 Oct 2025) EllapsedTime: 59.9 seconds RetCode: 0 Status: OK