Package: DIAlignR Version: 2.16.0 Command: /home/biocbuild/R/R/bin/R CMD INSTALL DIAlignR StartedAt: 2025-10-13 20:38:11 -0000 (Mon, 13 Oct 2025) EndedAt: 2025-10-13 20:39:45 -0000 (Mon, 13 Oct 2025) EllapsedTime: 94.2 seconds RetCode: 0 Status: OK