Package: DIAlignR Version: 2.16.0 Command: /home/biocbuild/R/R/bin/R CMD build --keep-empty-dirs --no-resave-data DIAlignR StartedAt: 2025-10-14 00:20:59 -0000 (Tue, 14 Oct 2025) EndedAt: 2025-10-14 00:23:01 -0000 (Tue, 14 Oct 2025) EllapsedTime: 122.0 seconds RetCode: 0 Status: OK PackageFile: DIAlignR_2.16.0.tar.gz PackageFileSize: 4.299 MiB