Package: DIAlignR Version: 2.16.0 Command: /Library/Frameworks/R.framework/Resources/bin/R CMD INSTALL DIAlignR StartedAt: 2025-10-13 16:03:54 -0400 (Mon, 13 Oct 2025) EndedAt: 2025-10-13 16:04:55 -0400 (Mon, 13 Oct 2025) EllapsedTime: 60.9 seconds RetCode: 0 Status: OK