Package: DIAlignR Version: 2.16.0 Command: /Library/Frameworks/R.framework/Resources/bin/R CMD build --keep-empty-dirs --no-resave-data DIAlignR StartedAt: 2025-10-13 23:14:57 -0400 (Mon, 13 Oct 2025) EndedAt: 2025-10-13 23:16:25 -0400 (Mon, 13 Oct 2025) EllapsedTime: 87.9 seconds RetCode: 0 Status: OK PackageFile: DIAlignR_2.16.0.tar.gz PackageFileSize: 4.271 MiB