Package: DIAlignR Version: 2.16.0 Command: rm -rf DIAlignR.buildbin-libdir && mkdir DIAlignR.buildbin-libdir && /Users/biocbuild/BBS/utils/build-universal.sh DIAlignR_2.16.0.tar.gz /Library/Frameworks/R.framework/Resources/bin/R DIAlignR.buildbin-libdir StartedAt: 2025-10-15 18:14:04 -0400 (Wed, 15 Oct 2025) EndedAt: 2025-10-15 18:15:14 -0400 (Wed, 15 Oct 2025) EllapsedTime: 69.2 seconds RetCode: 0 Status: OK PackageFile: DIAlignR_2.16.0.tgz PackageFileSize: 4.792 MiB