Package: DFplyr Version: 1.2.0 Command: /home/biocbuild/R/R/bin/R CMD build --keep-empty-dirs --no-resave-data DFplyr StartedAt: 2025-10-14 00:20:56 -0000 (Tue, 14 Oct 2025) EndedAt: 2025-10-14 00:21:17 -0000 (Tue, 14 Oct 2025) EllapsedTime: 21.0 seconds RetCode: 0 Status: OK PackageFile: DFplyr_1.2.0.tar.gz PackageFileSize: 458.6 KiB