Package: DFplyr Version: 1.2.0 Command: /Library/Frameworks/R.framework/Resources/bin/R CMD INSTALL DFplyr StartedAt: 2025-10-13 15:33:39 -0400 (Mon, 13 Oct 2025) EndedAt: 2025-10-13 15:33:47 -0400 (Mon, 13 Oct 2025) EllapsedTime: 8.1 seconds RetCode: 0 Status: OK