Package: DFplyr Version: 1.2.0 Command: /Library/Frameworks/R.framework/Resources/bin/R CMD build --keep-empty-dirs --no-resave-data DFplyr StartedAt: 2025-10-13 23:14:38 -0400 (Mon, 13 Oct 2025) EndedAt: 2025-10-13 23:14:57 -0400 (Mon, 13 Oct 2025) EllapsedTime: 19.4 seconds RetCode: 0 Status: OK PackageFile: DFplyr_1.2.0.tar.gz PackageFileSize: 392.7 KiB