Package: DFplyr Version: 1.2.0 Command: rm -rf DFplyr.buildbin-libdir && mkdir DFplyr.buildbin-libdir && /Users/biocbuild/BBS/utils/build-universal.sh DFplyr_1.2.0.tar.gz /Library/Frameworks/R.framework/Resources/bin/R DFplyr.buildbin-libdir StartedAt: 2025-10-15 18:14:02 -0400 (Wed, 15 Oct 2025) EndedAt: 2025-10-15 18:14:12 -0400 (Wed, 15 Oct 2025) EllapsedTime: 10.0 seconds RetCode: 0 Status: OK PackageFile: DFplyr_1.2.0.tgz PackageFileSize: 550.1 KiB