Package: DEXSeq Version: 1.54.1 Command: /home/biocbuild/R/R/bin/R CMD INSTALL DEXSeq StartedAt: 2025-10-13 20:42:58 -0000 (Mon, 13 Oct 2025) EndedAt: 2025-10-13 20:43:51 -0000 (Mon, 13 Oct 2025) EllapsedTime: 53.2 seconds RetCode: 0 Status: OK