Package: DEXSeq Version: 1.54.1 Command: /home/biocbuild/R/R/bin/R CMD build --keep-empty-dirs --no-resave-data DEXSeq StartedAt: 2025-10-14 00:20:51 -0000 (Tue, 14 Oct 2025) EndedAt: 2025-10-14 00:23:44 -0000 (Tue, 14 Oct 2025) EllapsedTime: 173.1 seconds RetCode: 0 Status: OK PackageFile: DEXSeq_1.54.1.tar.gz PackageFileSize: 1.66 MiB