Package: DEXSeq Version: 1.54.1 Command: /Library/Frameworks/R.framework/Resources/bin/R CMD build --keep-empty-dirs --no-resave-data DEXSeq StartedAt: 2025-10-13 23:14:18 -0400 (Mon, 13 Oct 2025) EndedAt: 2025-10-13 23:16:31 -0400 (Mon, 13 Oct 2025) EllapsedTime: 132.6 seconds RetCode: 0 Status: OK PackageFile: DEXSeq_1.54.1.tar.gz PackageFileSize: 1.789 MiB