Package: DEWSeq Version: 1.22.0 Command: /home/biocbuild/bbs-3.21-bioc/R/bin/R CMD build --keep-empty-dirs --no-resave-data DEWSeq StartedAt: 2025-10-15 17:12:10 -0400 (Wed, 15 Oct 2025) EndedAt: 2025-10-15 17:14:00 -0400 (Wed, 15 Oct 2025) EllapsedTime: 110.1 seconds RetCode: 0 Status: OK PackageFile: DEWSeq_1.22.0.tar.gz PackageFileSize: 3.346 MiB