Package: DEWSeq Version: 1.22.0 Command: /home/biocbuild/R/R/bin/R CMD INSTALL DEWSeq StartedAt: 2025-10-13 20:32:58 -0000 (Mon, 13 Oct 2025) EndedAt: 2025-10-13 20:33:36 -0000 (Mon, 13 Oct 2025) EllapsedTime: 38.0 seconds RetCode: 0 Status: OK