Package: DEWSeq Version: 1.22.0 Command: /home/biocbuild/R/R/bin/R CMD build --keep-empty-dirs --no-resave-data DEWSeq StartedAt: 2025-10-14 00:19:40 -0000 (Tue, 14 Oct 2025) EndedAt: 2025-10-14 00:22:28 -0000 (Tue, 14 Oct 2025) EllapsedTime: 168.0 seconds RetCode: 0 Status: OK PackageFile: DEWSeq_1.22.0.tar.gz PackageFileSize: 3.386 MiB