Package: DEWSeq Version: 1.22.0 Command: /Library/Frameworks/R.framework/Resources/bin/R CMD INSTALL DEWSeq StartedAt: 2025-10-13 16:20:49 -0400 (Mon, 13 Oct 2025) EndedAt: 2025-10-13 16:21:20 -0400 (Mon, 13 Oct 2025) EllapsedTime: 30.4 seconds RetCode: 0 Status: OK