Package: DEGraph Version: 1.60.0 Command: /home/biocbuild/R/R/bin/R CMD INSTALL DEGraph StartedAt: 2025-10-13 20:27:20 -0000 (Mon, 13 Oct 2025) EndedAt: 2025-10-13 20:27:32 -0000 (Mon, 13 Oct 2025) EllapsedTime: 11.5 seconds RetCode: 0 Status: OK