Package: DECIPHER Version: 3.4.0 Command: /home/biocbuild/R/R/bin/R CMD build --keep-empty-dirs --no-resave-data DECIPHER StartedAt: 2025-10-14 00:07:35 -0000 (Tue, 14 Oct 2025) EndedAt: 2025-10-14 00:31:33 -0000 (Tue, 14 Oct 2025) EllapsedTime: 1438.4 seconds RetCode: 0 Status: OK PackageFile: DECIPHER_3.4.0.tar.gz PackageFileSize: 17.82 MiB