Package: DCATS Version: 1.6.0 Command: /Library/Frameworks/R.framework/Resources/bin/R CMD build --keep-empty-dirs --no-resave-data DCATS StartedAt: 2025-10-13 22:36:02 -0400 (Mon, 13 Oct 2025) EndedAt: 2025-10-13 22:36:21 -0400 (Mon, 13 Oct 2025) EllapsedTime: 19.1 seconds RetCode: 0 Status: OK PackageFile: DCATS_1.6.0.tar.gz PackageFileSize: 2.836 MiB