Package: DCATS Version: 1.6.0 Command: rm -rf DCATS.buildbin-libdir && mkdir DCATS.buildbin-libdir && /Users/biocbuild/BBS/utils/build-universal.sh DCATS_1.6.0.tar.gz /Library/Frameworks/R.framework/Resources/bin/R DCATS.buildbin-libdir StartedAt: 2025-10-15 18:09:01 -0400 (Wed, 15 Oct 2025) EndedAt: 2025-10-15 18:09:10 -0400 (Wed, 15 Oct 2025) EllapsedTime: 9.2 seconds RetCode: 0 Status: OK PackageFile: DCATS_1.6.0.tgz PackageFileSize: 2.866 MiB