Package: DART Version: 1.56.0 Command: /home/biocbuild/R/R/bin/R CMD INSTALL DART StartedAt: 2025-10-13 20:16:17 -0000 (Mon, 13 Oct 2025) EndedAt: 2025-10-13 20:16:37 -0000 (Mon, 13 Oct 2025) EllapsedTime: 19.7 seconds RetCode: 0 Status: OK