Package: DART Version: 1.56.0 Command: /home/biocbuild/R/R/bin/R CMD build --keep-empty-dirs --no-resave-data DART StartedAt: 2025-10-14 00:05:57 -0000 (Tue, 14 Oct 2025) EndedAt: 2025-10-14 00:07:35 -0000 (Tue, 14 Oct 2025) EllapsedTime: 98.0 seconds RetCode: 0 Status: OK PackageFile: DART_1.56.0.tar.gz PackageFileSize: 1.983 MiB