Package: DAPAR Version: 1.40.0 Command: /home/biocbuild/R/R/bin/R CMD INSTALL DAPAR StartedAt: 2025-10-13 20:57:32 -0000 (Mon, 13 Oct 2025) EndedAt: 2025-10-13 20:58:37 -0000 (Mon, 13 Oct 2025) EllapsedTime: 64.6 seconds RetCode: 0 Status: OK