Package: DAPAR Version: 1.40.0 Command: /home/biocbuild/R/R/bin/R CMD build --keep-empty-dirs --no-resave-data DAPAR StartedAt: 2025-10-14 00:05:55 -0000 (Tue, 14 Oct 2025) EndedAt: 2025-10-14 00:05:57 -0000 (Tue, 14 Oct 2025) EllapsedTime: 2.0 seconds RetCode: 0 Status: OK PackageFile: DAPAR_1.40.0.tar.gz PackageFileSize: 150.4 KiB