Package: CytoPipelineGUI Version: 1.6.0 Command: /Library/Frameworks/R.framework/Resources/bin/R CMD INSTALL CytoPipelineGUI StartedAt: 2025-10-13 16:02:00 -0400 (Mon, 13 Oct 2025) EndedAt: 2025-10-13 16:02:29 -0400 (Mon, 13 Oct 2025) EllapsedTime: 28.6 seconds RetCode: 0 Status: OK