Package: CytoPipelineGUI Version: 1.6.0 Command: /home/biocbuild/R/R/bin/R CMD INSTALL CytoPipelineGUI StartedAt: 2025-10-13 20:49:12 -0000 (Mon, 13 Oct 2025) EndedAt: 2025-10-13 20:49:32 -0000 (Mon, 13 Oct 2025) EllapsedTime: 19.4 seconds RetCode: 0 Status: OK