Package: CytoPipelineGUI Version: 1.6.0 Command: /Library/Frameworks/R.framework/Resources/bin/R CMD INSTALL CytoPipelineGUI StartedAt: 2025-10-13 15:57:11 -0400 (Mon, 13 Oct 2025) EndedAt: 2025-10-13 15:57:27 -0400 (Mon, 13 Oct 2025) EllapsedTime: 15.3 seconds RetCode: 0 Status: OK