Package: CytoPipelineGUI Version: 1.6.0 Command: /Library/Frameworks/R.framework/Resources/bin/R CMD check --install=check:CytoPipelineGUI.install-out.txt --library=/Library/Frameworks/R.framework/Resources/library --no-vignettes --timings CytoPipelineGUI_1.6.0.tar.gz StartedAt: 2025-10-14 18:31:47 -0400 (Tue, 14 Oct 2025) EndedAt: 2025-10-14 18:35:32 -0400 (Tue, 14 Oct 2025) EllapsedTime: 224.7 seconds RetCode: 0 Status: OK CheckDir: CytoPipelineGUI.Rcheck Warnings: 0