Package: CytoPipelineGUI Version: 1.6.0 Command: rm -rf CytoPipelineGUI.buildbin-libdir && mkdir CytoPipelineGUI.buildbin-libdir && /Users/biocbuild/BBS/utils/build-universal.sh CytoPipelineGUI_1.6.0.tar.gz /Library/Frameworks/R.framework/Resources/bin/R CytoPipelineGUI.buildbin-libdir StartedAt: 2025-10-15 18:07:02 -0400 (Wed, 15 Oct 2025) EndedAt: 2025-10-15 18:07:20 -0400 (Wed, 15 Oct 2025) EllapsedTime: 18.1 seconds RetCode: 0 Status: OK PackageFile: CytoPipelineGUI_1.6.0.tgz PackageFileSize: 1.713 MiB