Package: CytoPipeline Version: 1.8.0 Command: /Library/Frameworks/R.framework/Resources/bin/R CMD build --keep-empty-dirs --no-resave-data CytoPipeline StartedAt: 2025-10-13 18:20:14 -0400 (Mon, 13 Oct 2025) EndedAt: 2025-10-13 18:22:00 -0400 (Mon, 13 Oct 2025) EllapsedTime: 105.5 seconds RetCode: 0 Status: OK PackageFile: CytoPipeline_1.8.0.tar.gz PackageFileSize: 3.339 MiB