Package: CytoPipeline Version: 1.8.0 Command: rm -rf CytoPipeline.buildbin-libdir && mkdir CytoPipeline.buildbin-libdir && /Users/biocbuild/BBS/utils/build-universal.sh CytoPipeline_1.8.0.tar.gz /Library/Frameworks/R.framework/Resources/bin/R CytoPipeline.buildbin-libdir StartedAt: 2025-10-14 13:11:24 -0400 (Tue, 14 Oct 2025) EndedAt: 2025-10-14 13:12:16 -0400 (Tue, 14 Oct 2025) EllapsedTime: 51.4 seconds RetCode: 0 Status: OK PackageFile: CytoPipeline_1.8.0.tgz PackageFileSize: 3.514 MiB