Package: CytoPipeline Version: 1.8.0 Command: /Library/Frameworks/R.framework/Resources/bin/R CMD INSTALL CytoPipeline StartedAt: 2025-10-13 15:56:53 -0400 (Mon, 13 Oct 2025) EndedAt: 2025-10-13 15:57:11 -0400 (Mon, 13 Oct 2025) EllapsedTime: 17.6 seconds RetCode: 0 Status: OK