Package: CytoML Version: 2.20.0 Command: chmod a+r CytoML -R && E:\biocbuild\bbs-3.21-bioc\R\bin\R.exe CMD build --keep-empty-dirs --no-resave-data CytoML StartedAt: 2025-08-14 18:23:20 -0400 (Thu, 14 Aug 2025) EndedAt: 2025-08-14 18:27:07 -0400 (Thu, 14 Aug 2025) EllapsedTime: 227.1 seconds RetCode: 0 Status: OK PackageFile: CytoML_2.20.0.tar.gz PackageFileSize: 10.54 MiB